BEGIN:VCALENDAR
VERSION:2.0
PRODID:-//https://www.equa.se///NONSGML kigkonsult.se iCalcreator 2.10.15//
METHOD:PUBLISH
BEGIN:VEVENT
UID:20260420T054913CEST-2953VOjxUl@https://www.equa.se/
DTSTAMP:20260420T034913Z
DESCRIPTION:\nEQUA has developed an add-on module to IDA ICE that simplifie
 s energy modeling according to the Building Performance Rating Method. The
  method\, which is defined in ASHRAE 90.1-2010\, appendix G\, is used e.g.
  in LEED projects and means that the actual (proposed) building is compare
 d with a US building code-based reference (baseline) building. In the cour
 se\, we go through the module's functions and features\, and also we model
  a few different types of projects and systems.\n&nbsp\;\nNumber of days:&
 nbsp\;1Date:&nbsp\;Friday\, 25th November 2022Time: 09.00-17.00 CEST (Stoc
 kholm\, Rome\, Berlin time)Location:&nbsp\;Råsundavägen 100\, Solna (Stock
 holm) &amp\; Online via Microsoft TeamsPrice:&nbsp\;5 000 kr + moms / 500 
 € + VAT&nbsp\; (10% discount when having a maintenance agreement)Language:
 &nbsp\;EnglishSoftware: IDA ICE 4.8 Expert\, ASHRAE 90.1 (temporary licens
 es will be provided)Target group and prerequisites: Intermediate level\, b
 asics of ASRAE 90.1 and HVAC systems\n&nbsp\;\nAbout the presenter\n\n\n\n
 \n&nbsp\;\n\nSamer Hassanie has been working for EQUA since 2018. He has a
  Bachelor of Science degree and holds a Technical Licentiate in HVAC Techn
 ology. Before EQUA\, Samer has worked for Sweco as energy consultant. At E
 QUA\, Samer divides his time between training\, support and testing of IDA
  ICE\, as well as consulting work in simulation\n\n\n\n\n&nbsp\;\nTo regis
 ter for the course\, click the button “Registration” at the top of the pag
 e.Note!&nbsp\;Last day of registration is&nbsp\;Friday November 18\, 2022.
  https://www.equa.se/en/events/upcoming/event/758-leed-based-energy-modeli
 ng
DTSTART;VALUE=DATE:20221125
LOCATION:Solna\, Sweden (EQUA headquarter) & Online (Rasundavagen 100 & Onl
 ine via Microsoft Teams)
SUMMARY:LEED-based Energy modeling 
URL:https://www.equa.se/en/events/upcoming/event/758-leed-based-energy-mode
 ling
END:VEVENT
END:VCALENDAR
