BEGIN:VCALENDAR
VERSION:2.0
PRODID:-//https://www.equa.se///NONSGML kigkonsult.se iCalcreator 2.10.15//
METHOD:PUBLISH
BEGIN:VEVENT
UID:20260422T203133CEST-05904V0dg5@https://www.equa.se/
DTSTAMP:20260422T183133Z
DESCRIPTION:&nbsp\;\n\nDo you want to become a professional and advanced bu
 ilding modeler? Then EQUA Academy&rsquo\;s Simulation Summit is what you n
 eed. We meet in an undisturbed environment to learn more about indoor clim
 ate and energy\, and to learn how to model advanced issues. From students 
 to professionals - from peers to peers - from IDA ICE users to experts.\n
 \nLectures will be provided\nHands-on sessions will be held\nExercises wil
 l be done in groups\nTips and tricks to solve your own problems\n\nCombine
  work and exciting adventures in the beautiful world of the Swiss Alps! Yo
 u are of course welcome to stay indoors with your simulation challenges th
 e whole day long. However\, an active break will clear your mind and bring
  you closer to enlightenment. You have the option to:\n\nhike\nwatch marmo
 ts\, birds and/or alpine deer\nclimb\ntake a walk to the beautiful mountai
 n lake “Spilauersee” (see title of the course flyer)\n\n&nbsp\;\nWhat you 
 need to bring\n\nExperience or interest in IDA ICE\n\nYou can select betwe
 en different lessons – basic\, intermediate or advanced level\nYou can bri
 ng your current building model challenge case to be solved\n\n\nCourse equ
 ipment\n\nYour laptop with Swiss or European power plug\nBring all necessa
 ry data\, as there is a very limited internet access in the hut.\n\n\nMoun
 tain equipment\n\nGood shoes and clothing for walking in all weather condi
 tions (rain\, fog\, snowstorm\, bright sunshine) and temperatures (0 - 20 
 &deg\;C).\nFor the hut: Your own bed linen or silk sleeping bag\, as well 
 as towel.\nEverything packed in a comfortable backpack (no wheels!)\nIn ca
 se you own: Climbing harness and helmet\nIn case of interest: Running equi
 pment\nSome pocket money for the hut bar\nYour best parfume\, as there is 
 no shower in the hut (a washstand in the hut and a big outdoor bathtub wit
 hin 30’ walking distance – see title of the course flyer – is available)\n
 \n\nCosts\nThe following costs include full accommodation (5 nights)\, foo
 d\, bus\, cable car and course fee:\n\nFull time students: EUR 700.00\nOth
 ers: EUR 2 100.00\n\nPlace\nSisikon is situated at Lake of Lucerne in cent
 ral Switzerland\, within reach by car or train from Zurich. We will meet a
 t Sisikon train station and get a transfer by bus to Riemenstalden and cab
 le car to Lidernen.\n\n&nbsp\;\nHere you find our Flyer (April 2016)!\nDea
 dline for registration extended to 8th of September 2016! Please register 
 with the button 'Registration' at the top of the page\n&nbsp\; &nbsp\; &nb
 sp\; \n&nbsp\; https://www.equa.se/en/events/upcoming/event/111-equa-acade
 my-s-2nd-simulation-summit
DTSTART:20160918T120000Z
DTEND:20160923T140000Z
LOCATION:Lidernenhütte (Lidernen SAC Hütte\, 6452 Riemenstalden\, Schweiz)
SUMMARY:EQUA Academy´s 2nd Simulation Summit
URL:https://www.equa.se/en/events/upcoming/event/111-equa-academy-s-2nd-sim
 ulation-summit
END:VEVENT
END:VCALENDAR
