BEGIN:VCALENDAR
VERSION:2.0
PRODID:-//https://www.equa.se///NONSGML kigkonsult.se iCalcreator 2.10.15//
METHOD:PUBLISH
BEGIN:VEVENT
UID:20260422T192957CEST-7864EB7Ri3@https://www.equa.se/
DTSTAMP:20260422T172957Z
DESCRIPTION:\nEQUA has developed an add-on module to IDA ICE that simplifie
 s energy modeling according to the Building Performance Rating Method. The
  method\, which is defined in ASHRAE 90.1-2010\, appendix G\, is used e.g.
  in LEED projects and means that the actual (proposed) building is compare
 d with a US building code-based reference (baseline) building. In the cour
 se\, we go through the module's functions and features\, and also we model
  a few different types of projects and systems.\nPart 1: ASHRAE 90.1 2016 
 Appendix G\, IDA ICE ASHRAE 90.1-addon and exercises\nPart 2: Hands-on pro
 ject submission demo (input output summary):&nbsp\;Work in a team and crea
 te the input/output summary for a demo project (one of the required delive
 rables while submitting a LEED project)\nPart 3: Hands-on project submissi
 on demo (Minimum energy performance calculator):&nbsp\;Work in a team and 
 fill in the Minimum energy performance calculator for a demo project (one 
 of the required deliverables while submitting a LEED project)\nNumber of d
 ays:&nbsp\;1-2Date:&nbsp\;Monday-Tuesday\, 9-10th September 2024\nPart 1:&
 nbsp\;Date: Monday 9th September\, Time: 09-17\nPart 2:&nbsp\;Date: Tuesda
 y 10th September\, Time: 09-12:30\nPart 3: Date: Tuesday 10th September\, 
 Time: 13:30-17\nTime: 09.00-17.00 CEST (Stockholm\, Rome\, Berlin time)Loc
 ation:&nbsp\;Råsundavägen 100\, Solna (Stockholm) &amp\; Online via Micros
 oft TeamsPrice:&nbsp\;Part 1: 6 000 kr + moms / 600 € + VAT&nbsp\; (10% di
 scount when having a maintenance agreement)\n&nbsp\; &nbsp\; &nbsp\; &nbsp
 \; &nbsp\; &nbsp\; &nbsp\;Part 1-2:&nbsp\;9 000 kr + moms / 900 € + VAT&nb
 sp\; (10% discount when having a maintenance agreement)\n&nbsp\; &nbsp\; &
 nbsp\; &nbsp\; &nbsp\; &nbsp\; &nbsp\;Part 1-3:&nbsp\;12 000 kr + moms / 1
 200 € + VAT&nbsp\; (10% discount when having a maintenance agreement)Langu
 age:&nbsp\;EnglishSoftware: IDA ICE 5.0 Expert\, ASHRAE 90.1 (temporary li
 censes will be provided)Target group and prerequisites: Intermediate level
 \, basics of ASRAE 90.1 and HVAC systems\n&nbsp\;\nAbout the presenter\n\n
 \n\n\n&nbsp\;\n\nSamer Hassanie has been working for EQUA since 2018. He h
 as a Bachelor of Science degree and holds a Technical Licentiate in HVAC T
 echnology. Before EQUA\, Samer has worked for Sweco as energy consultant. 
 At EQUA\, Samer divides his time between training\, support and testing of
  IDA ICE\, as well as consulting work in simulation\n\n\n\n\n&nbsp\;\nTo r
 egister for the course\, click the button “Registration” at the top of the
  page.Note!&nbsp\;Last day of registration is&nbsp\;Monday\, September 2nd
 \, 2024. https://www.equa.se/en/events/upcoming/event/1067-leed-based-ener
 gy-modeling
DTSTART:20240909T090000Z
DTEND:20240910T170000Z
LOCATION:Solna\, Sweden (EQUA headquarter) & Online (Rasundavagen 100 & Onl
 ine via Microsoft Teams)
SUMMARY:LEED-based energy modeling 
URL:https://www.equa.se/en/events/upcoming/event/1067-leed-based-energy-mod
 eling
END:VEVENT
END:VCALENDAR
