BEGIN:VCALENDAR
VERSION:2.0
PRODID:-//https://www.equa.se///NONSGML kigkonsult.se iCalcreator 2.10.15//
METHOD:PUBLISH
BEGIN:VEVENT
UID:20260422T181317CEST-1525WEvrH7@https://www.equa.se/
DTSTAMP:20260422T161317Z
DESCRIPTION:&nbsp\;\nWorkflow-Schulung: Winterlicher Wärmeschutz (SIA 380/1
 )\nTeil der Workflow-Reihe „Schweizer Lokalisierung“\nVoraussetzung: Von d
 en Kursteilnehmern wird erwartet\, dass sie die im Basiskurs vermittelten 
 Inhalte kennen und diese zur individuellen Vorbereitung auf den Kurs auffr
 ischen.\nDiese Schulung ist Teil der neuen Workflow-Schulungen für die Lok
 alisierung Schweiz. In diesen Schulungen zeigen wir Ihnen anwendungsorient
 iert die schrittweise Umsetzung von verschiedenen Simulationsanwendungen f
 ür Ihren Simulationsalltag:\n\nWinterlicher Wärmeschutz (SIA 380/1) – Schr
 itt für Schritt vom Modell zum Nachweis (WF-CH1)\nSommerlicher Wärmeschutz
  (SIA 180 C.1) – automatische Optimierung und Nachweis&nbsp\;(WF-CH2)\nÜbe
 rhitzung im Sommer vermeiden (SIA 380/2) – passive Maßnahmen und Bedarfsna
 chweis Kühlung ((WF-CH3)\nHeiz- und Kühllastsimulation (SIA 380/2) – Vorge
 hen für die Dimensionierung (WF-CH4)\nEnergiebedarf (SIA 380/2) – Strombed
 arf Kühlung für den Nachweis (WF-CH5)\n\nDiese Schulung ist Teil der anwen
 dungsorientierten Workflow-Reihe für die Schweizer Lokalisierung in IDA IC
 E. Im Zentrum steht der Nachweis des winterlichen Wärmeschutzes nach SIA 3
 80/1 – eine zentrale Anforderung im Schweizer Baunormenwesen.\nAnhand eine
 s Beispielprojekts führen wir Sie schrittweise durch den gesamten Prozess 
 – von der Modellvorbereitung bis zur fertigen\, einreichungsfähigen Dokume
 ntation. Sie erhalten zudem wertvolle Hinweise zu typischen Stolpersteinen
 \, Hintergründen der Eingaben und effizienten Prüfmethoden.\nDiese Schulun
 g richtet sich an alle\, die den winterlichen Wärmeschutz korrekt und effi
 zient nachweisen möchten – praxisnah und im Einklang mit den aktuellen Anf
 orderungen der SIA-Normen.\nInhalte der Schulung\n\nEinführung &amp\; Norm
 grundlagen\nRepetition: Modellimport &amp\; Modellstruktur\nSpezifische Ei
 ngaben für den Wärmeschutznachweis\nPlausibilitätskontrolle &amp\; Fehlerb
 ehebung\nBerichtserstellung zur Einreichung\nTipps &amp\; Tricks aus dem P
 raxisalltag\n\n&nbsp\;Zeit:&nbsp\;10.00-12.30 UhrOrt:&nbsp\;OnlineKurskost
 en:&nbsp\; EUR 275 (Standardbedingungen)\n&nbsp\;\nFür die Anmeldung zu di
 esem Kurs klicken Sie oben auf „Teilnehmen“. https://www.equa.se/en/events
 /previous/event/1451-winterlicher-waermeschutz-sia-380-1-schritt-fuer-schr
 itt-vom-modell-zum-nachweis-wf-ch1-online
DTSTART:20260420T100000Z
DTEND:20260420T123000Z
LOCATION:Online ()
SUMMARY:Winterlicher Wärmeschutz (SIA 380/1) – Schritt für Schritt vom Mode
 ll zum Nachweis (WF-CH1) - Online
URL:https://www.equa.se/en/events/previous/event/1451-winterlicher-waermesc
 hutz-sia-380-1-schritt-fuer-schritt-vom-modell-zum-nachweis-wf-ch1-online
END:VEVENT
END:VCALENDAR
