BEGIN:VCALENDAR
VERSION:2.0
PRODID:-//https://www.equa.se///NONSGML kigkonsult.se iCalcreator 2.10.15//
METHOD:PUBLISH
BEGIN:VEVENT
UID:20260423T201519CEST-95508lLFMH@https://www.equa.se/
DTSTAMP:20260423T181519Z
DESCRIPTION:&nbsp\;\nKurssprache: Mehrheitlich Deutsch\, bitte rechnen Sie 
 mit 1-2 Englischsprachigen Präsentationen\nAnmeldeschluss:&nbsp\; 15. Apri
 l 2026\n&nbsp\;\n\nWir freuen uns\, Sie zu den IDA ICE User Days 2026 in M
 ainz einzuladen – dem Treffpunkt für Anwender\, Entwickler und Simulations
 experten.\nNeben Einblicken in die neuesten Entwicklungen der Gebäudesimul
 ation steht der Austausch innerhalb der Community im Mittelpunkt.\nNutzen 
 Sie die Gelegenheit\, mit anderen Anwendern zu diskutieren\, Erfahrungen a
 us der Praxis zu teilen und neue Impulse für Ihre tägliche Arbeit mitzuneh
 men.\nSprechen Sie direkt mit unseren Entwicklern über aktuelle und zukünf
 tige Entwicklungen\, und gestalten Sie die nächsten Schritte unserer Softw
 are aktiv mit.\nDas detaillierte Programm mit allen Vorträgen und Sessions
  finden Sie unten.\nBesonderes Highlight:&nbsp\;\n&nbsp\;\nAm zweiten Vera
 nstaltungstag bieten wir als drittel Parallelsession zusätzlich eine ganzt
 ägige Hands-on-Einsteiger-Session zu IDA Districts an (09:30–15:30 Uhr).\n
 Nutzen Sie diese Gelegenheit\, unser neues Tool zur Simulation von Wärmene
 tzen vor dem offiziellen Release zu testen und praktisch kennenzulernen.\n
 Bitte melden Sie sich bis zum 01. April 2026 über den obenstehenden „Regis
 trieren“-Button an.\nBei Fragen erreichen Sie uns unter info@equa.ch\n&nbs
 p\;\nAgenda EQUA User Days 2026 in Mainz\n\n\n\n10:00\nBegrüßung und Einfü
 hrung\n\n\n10:20\nTagesablauf &amp\; Inhalte: Vorstellung der Hands-On-Ses
 sions (Tag 1)&nbsp\;\n\n\n10:50\nEinführung in die Neuerungen von IDA ICE 
 5.2Ausblick auf IDA ICE 5.3Fragen und Diskussion\n\n\n11:20\nEntwicklungsa
 usblick I (System modelling and IDA districts)&nbsp\;\n\n\n11:40\nPraxisvo
 rtrag\n\n\n12:10\nFragen\, Feedback &amp\; Diskussion\n\n\n12:30\nMittages
 sen\n\n\n13:30\n\nParallele Hands-on Sessions I:\nA)&nbsp\;Schichtzonenmod
 ell&nbsp\;(info)B)&nbsp\;Multi-objective optimization (info)\n\n\n\n15:30
 \nKaffeepause\n\n\n16:00\n\nParallele Hands-on Sessions II:\nA)&nbsp\;Loka
 lisierung Schweiz&nbsp\;(info)&nbsp\;B)&nbsp\;Lokalisierung Deutschland&nb
 sp\;(info)\n\n\n\n18:00\nPause und gemeinsamer Spaziergang zum Abendessen&
 nbsp\;\n\n\n18:30\nAbendessen\n\n\n&nbsp\;LEErZeichen\n&nbsp\;\n\n\n\nTag 
 2\n\n\n\n08:00\nFrühstück\n\n\n09:00\nTagesablauf &amp\; Inhalte Hands-On-
 Sessions Tag 2 durch jeweilige Dozenten\n\n\n09:30\nEntwicklungsausblick I
 I (MagiCAD ESBO\, Roombook)/Beginn Parallelsession:&nbsp\;IDA Districts Wo
 rkshop (Ende 15.30 Uhr)\n\n\n09:50\nKaffeepause\n\n\n10:00\n\nParallele Ha
 nds-on Sessions I:\nA)&nbsp\;CFD&nbsp\;(info)B)&nbsp\;Daylight&nbsp\;(info
 )\n\n\n\n12:00\nMittagessen\n\n\n12:30\nMittagessen\n\n\n13:00\n\nParallel
 e Hands-on Sessions II:\nA)&nbsp\;IFC (info)B)&nbsp\;Electricity Managemen
 t (info)\n\n\n\n15:00\nPraxisvortrag\n\n\n15:30\nFragen\, Feedback &amp\; 
 Diskussion\n\n\n16:00\nEntwicklungsausblick III (64bit\, cloud and paralle
 lization\, API\, FMI\, AI\, digital twins\, benchmarking of controls)\n\n
 \n16:20\nReflexion\, Zusammenfassung und Feedback\n\n\n16:30\nEvaluation\,
  Abschiedsgetränk und kleiner Snack\n\n\n&nbsp\;LEErZeichen\n&nbsp\;\n\n\n
 \n&nbsp\;\n&nbsp\;\nPreise\n\n\nUser Day 1 - 29.04.2026 (250 EUR)\nUser Da
 y 2 / IDA Districts Workshop - 30.04.2026 (250 EUR)\nBoth User Days - 29.0
 4. - 30.04.2026 (450 EUR)\n\n\n&nbsp\;\n\n&nbsp\; https://www.equa.se/de/v
 eranstaltungen/event/1408-equa-user-days-2026-in-mainz-germany
DTSTART:20260429T080000Z
DTEND:20260430T160000Z
LOCATION:Halle 45\, Alte Waggonfabrik\, Mainz (Halle 45\, Alte Waggonfabrik
 \, Mainz)
SUMMARY:EQUA User Days 2026 in Mainz\, Germany
URL:https://www.equa.se/de/veranstaltungen/event/1408-equa-user-days-2026-i
 n-mainz-germany
END:VEVENT
BEGIN:VEVENT
UID:20260423T201519CEST-9553aafftk@https://www.equa.se/
DTSTAMP:20260423T181519Z
DESCRIPTION:&nbsp\;\n\nKursens syfte är att ge ökad förståelse för IDA ICE 
 och göra dig mer produktiv i programmet. Vi fyller på “verktygslådan” med 
 ett antal vanligt förekommande moment inom ramen för beräkningar av energi
 \, effekt och termisk komfort. Gemensamma genomgångar varvas med övningar 
 där du själv arbetar med bl.a. följande moment:\n\nFunktioner för att bygg
 a och importera geometrier via IFC\, Sketchup m.m.­­­\n\n\nÖkad förståelse
  för simuleringtyper och resultatobjekt i IDA ICE\n\n\nÖvningar i fördefin
 ierade funktioner för luftflöden och dess styrning\, fönster med öppningsf
 unktioner\, luftbehandlingssystem.\n\n\nIntroduktion till att bygga eller 
 anpassa egna system på avancerade nivån\, t ex egendefinierade styrmakron 
 samt att kunna logga godtyckliga variabler.\n\n\nIntroduktion i modellbibl
 ioteket (ESBO) med värmepump\, borrhål\, lagringstank m.m.\n\n\nIntrodukti
 on till klimatzonmodellen med stratifiering (ny för ICE 5.0)\n\n\nHjälpmed
 el att arbeta effektivt genom att använda versionshantering\, resurs- och 
 databasobjekt.\n\n&nbsp\;\nAntal dagar:&nbsp\;2Datum:&nbsp\;torsdag-fredag
 \, 7-8 maj\, 2026Tid: 09.00-17.00Plats: Råsundavägen 100\, Solna (Stockhol
 m) &amp\; Online&nbsp\;via Microsoft TeamsPris:&nbsp\;12 000 kr + moms&nbs
 p\;(10% rabatt om man har underhållsavtal)Språk:&nbsp\;SvenskaMjukvara:&nb
 sp\;IDA ICE 5.1.1.1 Expert\, Anpassning&nbsp\;Sverige&nbsp\;(lånelicenser 
 erbjuds)Målgrupp: för användare som passerat nybörjarstadiet (med förkunsk
 aper motsvarande grundkursen)Kursledare: Tomas Kyhlström\n&nbsp\;\nOm kurs
 ledaren\n\n\n\n\n&nbsp\;\nTomas Kyhlström har arbetat på EQUA sedan 2013 o
 ch har en civilingenjörsexamen i energiteknik. Han har jobbat med energi- 
 och miljöfrågor i byggnader i drygt 20 år\, och där IDA ICE har varit en r
 öd tråd. På EQUA jobbar Tomas mycket i nybyggnadsprojekt men även med utbi
 ldning\, utveckling och support. Han har tidigare jobbat på ÅF och Skanska
 .&nbsp\;\n\n\n\n&nbsp\;\nFör anmälan\, klicka på 'Registrera' högst upp på
  sidan.Obs!&nbsp\;Sista anmälningsdag är torsdag 30 april\, 2026. https://
 www.equa.se/de/veranstaltungen/event/1427-ida-ice-fortsaettningskurs
DTSTART:20260507T090000Z
DTEND:20260508T170000Z
LOCATION:Solna\, Sweden (EQUA headquarter) & Online (Rasundavagen 100 & Onl
 ine via Microsoft Teams)
SUMMARY:IDA ICE fortsättningskurs
URL:https://www.equa.se/de/veranstaltungen/event/1427-ida-ice-fortsaettning
 skurs
END:VEVENT
BEGIN:VEVENT
UID:20260423T201519CEST-9555EFbN2m@https://www.equa.se/
DTSTAMP:20260423T181519Z
DESCRIPTION:\nEQUA has developed an add-on module to IDA ICE that simplifie
 s energy modeling according to the Building Performance Rating Method. The
  method\, which is defined in ASHRAE 90.1-2010\, appendix G\, is used e.g.
  in LEED projects and means that the actual (proposed) building is compare
 d with a US building code-based reference (baseline) building. In the cour
 se\, we go through the module's functions and features\, and also we model
  a few different types of projects and systems.\n&nbsp\;\nNumber of days:&
 nbsp\;1Date:&nbsp\;Wednesday\, 29th April\, 2026Time: 09.00-17.00 CEST (St
 ockholm\, Rome\, Berlin time)Location:&nbsp\;Råsundavägen 100\, Solna (Sto
 ckholm) &amp\; Online via Microsoft TeamsPrice:&nbsp\;6 000 kr + moms / 60
 0 € + VAT&nbsp\; (10% discount when having a maintenance agreement)Languag
 e:&nbsp\;EnglishSoftware: IDA ICE 5.1.1 Expert\, ASHRAE 90.1 (temporary li
 censes will be provided)Target group and prerequisites: Intermediate level
 \, basics of ASRAE 90.1 and HVAC systems\n&nbsp\;About the presenter\n\n\n
 \n\n&nbsp\;\n\nPär Carling holds a&nbsp\;Technical Licentiate degree in HV
 AC Technology from KTH and has previously worked at ÅF and Skanska. He has
  20 years of experience in modelling and measurement monitoring of buildin
 gs. Pär divides his time between training\, support and testing of IDA ICE
 \, as well as consulting work in simulation and operational optimisation.
 \n&nbsp\;\n&nbsp\;\n\n\n\n\n&nbsp\;\nTo register for the course\, click th
 e button “Registration” at the top of the page.Note!&nbsp\;Last day of reg
 istration is&nbsp\;Wednesday\, 22th April\, 2026. https://www.equa.se/de/v
 eranstaltungen/event/1428-leed-based-energy-modeling
DTSTART:20260429T090000Z
DTEND:20260429T170000Z
LOCATION:Solna\, Sweden (EQUA headquarter) & Online (Rasundavagen 100 & Onl
 ine via Microsoft Teams)
SUMMARY:LEED-based energy modeling 
URL:https://www.equa.se/de/veranstaltungen/event/1428-leed-based-energy-mod
 eling
END:VEVENT
BEGIN:VEVENT
UID:20260423T201519CEST-9556ZgSuMM@https://www.equa.se/
DTSTAMP:20260423T181519Z
DESCRIPTION:\nDenna kurs ger en introduktion till modellering på avancerad 
 nivå i IDA ICE. Kursen vänder sig till dig som har jobbat med IDA ICE ett 
 tag och som vill lära dig mer om hur du modellerar skräddarsydda system.Ku
 rsen blandar övningar och teoriavsnitt. Övningarna består dels av att bygg
 a modeller från ett tomt formulär\, dels att skapa och modifiera delar i b
 efintliga byggnadsmodeller som exempelvis styrmakron\, luftbehandlingsaggr
 egat och undercentraler.I samband med övningarna går vi även igenom de oli
 ka kompontentmodellerna som används.\n&nbsp\;\nAntal dagar:&nbsp\;1Datum:&
 nbsp\;måndag\, 4 maj\, 2026Tid: 09.00-17.00Plats: Online via TeamsPris:&nb
 sp\;6 000 kr + moms&nbsp\;(10% rabatt om man har underhållsavtal)Språk:&nb
 sp\;SvenskaMjukvara: IDA ICE 5.1.1.1 Expert&nbsp\;(lånelicenser erbjuds)Må
 lgrupp:&nbsp\;för erfarna användare som har kännedom om VVS-systemKursleda
 re:&nbsp\;Jörgen Eriksson\n&nbsp\;\nOm kursledaren\n\n\n\n\n&nbsp\;\nJörge
 n Erikson är medgrundare av EQUA Solutions Sweden och arbetar med IDA ICE-
 konsultation och utbildning. Jörgen har varit hos EQUA sedan 2011 och har 
 en civilingenjörsexamen i maskinteknik och en teknisk licentiatexamen i by
 ggnadsteknik.\n\n\n\n&nbsp\;För anmälan\, klicka på 'Registrera' högst upp
  på sidan.Obs!&nbsp\;Sista anmälningsdag är måndag 27 april\, 2026. https:
 //www.equa.se/de/veranstaltungen/event/1429-grundkurs-i-modellering-av-pri
 maersystem
DTSTART:20260504T090000Z
DTEND:20260504T170000Z
LOCATION:Online ()
SUMMARY:Grundkurs i modellering av primärsystem
URL:https://www.equa.se/de/veranstaltungen/event/1429-grundkurs-i-modelleri
 ng-av-primaersystem
END:VEVENT
BEGIN:VEVENT
UID:20260423T201519CEST-9558v8GJKL@https://www.equa.se/
DTSTAMP:20260423T181519Z
DESCRIPTION:\n&nbsp\;\n&nbsp\;\n&nbsp\;\n&nbsp\;\n&nbsp\;\n&nbsp\;\n&nbsp\;
 \n&nbsp\;\n&nbsp\;\n&nbsp\;\nKursen är inriktad mot dig som vill lära dig 
 mer om hur du med hjälp av IDA ICE kan göra realistiska energisimuleringar
 . Gemensamma genomgångar varvas med övningar där du jobbar själv vid dator
 n.\nI ett antal övningar varieras olika indataparametrar för att bättre fö
 rstå deras betydelse för resultatet. Syftet är att du som arbetar med berä
 kningar ska skaffa dig en större säkerhet och lära dig skilja på vad som ä
 r stort och smått.\nVi granskar mätningar från olika projekt för att kontr
 ollera hur byggnader och vvs-anläggningar fungerar i praktiken och identif
 iera mindre energiposter som lätt glöms bort.\nI kursen diskuterar vi ocks
 å en metod för energiuppföljning och vi övar på Boverkets normaliseringsme
 tod ”dynamisk energiberäkning” där simuleringsmodellen används för att kor
 rigera uppmätt energistatistik till normalt brukande och normalt väder.\nA
 ntal dagar:&nbsp\;1Datum:&nbsp\;tisdag\, 5 maj\, 2026Tid: 09.00-17.00Plats
 :&nbsp\;Råsundavägen 100\, Solna (Stockholm) och Online via Microsoft Team
 sPris:&nbsp\;6000 kr + moms&nbsp\;(10% rabatt om man har underhållsavtal)S
 pråk:&nbsp\;SvenskaMjukvara: IDA ICE 5.1.1.1 Expert&nbsp\;(lånelicenser er
 bjuds)Målgrupp: för användare som passerat nybörjarstadietKursledare:&nbsp
 \;Pär Carling\n&nbsp\;\nOm kursledaren\n\n\n\n\n&nbsp\;\nPär Carling har e
 n tekn.lic.-examen i Installationsteknik från KTH och har tidigare arbetat
  på ÅF och Skanska. Han har 20 års erfarenhet av modellering och mätuppföl
 jning av byggnader. Pär fördelar sin tid mellan utbildning\, support och t
 estning av IDA ICE\, samt konsultarbete inom simulering och driftoptimerin
 g.\n\n\n\n&nbsp\;För anmälan\, klicka på 'Registrera' högst upp på sidan.O
 bs!&nbsp\;Sista anmälningsdag är tisdag 28 april\, 2026. https://www.equa.
 se/de/veranstaltungen/event/1430-praktisk-energisimulering
DTSTART:20260505T090000Z
DTEND:20260505T170000Z
LOCATION:Solna\, Sweden (EQUA headquarter) & Online (Rasundavagen 100 & Onl
 ine via Microsoft Teams)
SUMMARY:Praktisk energisimulering
URL:https://www.equa.se/de/veranstaltungen/event/1430-praktisk-energisimule
 ring
END:VEVENT
BEGIN:VEVENT
UID:20260423T201519CEST-9561JHVdhw@https://www.equa.se/
DTSTAMP:20260423T181519Z
DESCRIPTION:\nTo find the best solution\, most of the time one has to perfo
 rm multiple simulations. In IDA ICE 5\, this can be done quickly and autom
 atically with the new optimization tool AutoMOO in combination with graphi
 cal scripts. In this half-day course\, we will show how to solve a number 
 of common optimization problems.\n&nbsp\;\nNumber of days:&nbsp\;1Date:&nb
 sp\;Wednesday\, 6 th May\, 2026Time:&nbsp\;09.00-16.00 CEST (Stockholm\, R
 ome\, Berlin time)Location:&nbsp\;Online via Microsoft TeamsPrice:&nbsp\;6
  000 kr + moms / 600 € + VAT&nbsp\; (10% discount when having a maintenanc
 e agreement)Language:&nbsp\;EnglishSoftware: IDA ICE 5.1.1\, Anpassning Sv
 erige (temporary licenses will be provided)Target group and prerequisites:
  Intermediate level\,&nbsp\;for users who have passed the beginner stage\n
 &nbsp\;\nAbout the presenter\n\n\n\n\n&nbsp\;\n&nbsp\;\n\n\n\nTo register 
 for the course\, click the button “Registration” at the top of the page.No
 te!&nbsp\;Last day of registration is Wednesday\, 29th April\, 2026. https
 ://www.equa.se/de/veranstaltungen/event/1431-multi-objective-optimization-
 and-graphical-scripting
DTSTART:20260506T090000Z
DTEND:20260506T160000Z
LOCATION:Online ()
SUMMARY:Multi-objective optimization and graphical scripting
URL:https://www.equa.se/de/veranstaltungen/event/1431-multi-objective-optim
 ization-and-graphical-scripting
END:VEVENT
BEGIN:VEVENT
UID:20260423T201519CEST-9562Lb4vei@https://www.equa.se/
DTSTAMP:20260423T181519Z
DESCRIPTION:&nbsp\;\nIDA ICE Lektion „Lokalisierung Deutschland“\n&nbsp\;\n
 VoraussetzungenVon den Kursteilnehmern wird erwartet\, dass sie die im Bas
 iskurs vermittelten Inhalte kennen und diese zur individuellen Vorbereitun
 g auf den Kurs auffrischen.\n&nbsp\;\n\nLektion:&nbsp\;Lokalisierung Deuts
 chland (Lok-DE)&nbsp\;&nbsp\;\n\n&nbsp\; &nbsp\; &nbsp\; &nbsp\;&nbsp\;In 
 dieser Schulung erstellen Sie eine Gebäudesimulation basierend auf der deu
 tschen Lokalisierung. Dabei lernen Sie die wichtigsten Einstellungen und A
 npassungen kennen\, die speziell für den deutschen Markt relevant sind.\n&
 nbsp\; &nbsp\; &nbsp\; &nbsp\; Das erwartet Sie in der Schulung…\n\n\n\nÜb
 erblick über die deutsche Lokalisierung: Wir führen Sie durch die wichtigs
 ten Funktionen und Besonderheiten.\nDIN 4108-2: Wir zeigen Ihnen\, wie Mod
 ellanpassungen in IDA ICE umgesetzt werden. Anschließend simulieren wir ei
 n kleines Projekt und berechnen die Übertemperaturgradstunden gemäß DIN 41
 08-2. Dabei erhalten Sie praktische Tipps und hilfreiche Hinweise.\nDGNB u
 nd Tageslichtnachweise: Sie lernen\, wie Sie Nachweise gemäß DGNB SOC 1.1 
 - 1.4 sowie DIN 5034-1 und DIN 5034-3 in IDA ICE durchführen können. (Hinw
 eis: Für diese Übungen verwenden wir IDA ICE 5.2 Beta\, das für die Schulu
 ng bereitgestellt wird.)\nUnd vieles mehr: Freuen Sie sich auf weitere spa
 nnende Themen und praktische Übungen.\n\n\n\n&nbsp\;\n&nbsp\;Zeit:&nbsp\;1
 0.00-12.30 UhrOrt:&nbsp\;OnlineKurskosten:&nbsp\; EUR 195\n&nbsp\;\nFür di
 e Anmeldung zu diesem Kurs klicken Sie oben auf „Teilnehmen“.\n&nbsp\;\n&n
 bsp\; https://www.equa.se/de/veranstaltungen/event/1452-lokalisierung-deut
 schland-lok-de-online
DTSTART:20260507T100000Z
DTEND:20260507T123000Z
LOCATION:Online ()
SUMMARY:Lokalisierung Deutschland (Lok-DE) - Online
URL:https://www.equa.se/de/veranstaltungen/event/1452-lokalisierung-deutsch
 land-lok-de-online
END:VEVENT
BEGIN:VEVENT
UID:20260423T201519CEST-9564uDZ32j@https://www.equa.se/
DTSTAMP:20260423T181519Z
DESCRIPTION:&nbsp\;\nOnline - Lektion Plant0\nVoraussetzungenVon den Kurste
 ilnehmern wird erwartet\, dass sie die im Basiskurs vermittelten Inhalte k
 ennen und diese zur individuellen Vorbereitung auf den Kurs auffrischen.\n
 &nbsp\;\n\nLektion: Wärme- und Kälteerzeugung (Plant0)\nIn dieser Lektion 
 erhalten Sie einen praxisnahen Einstieg in die Modellierung von Wärme- und
  Kälteerzeugung in IDA ICE. Lokale Heiz- und Kühlelemente fordern bedarfsg
 erecht Wasser auf einem bestimmten Temperatur- und Leistungsniveau von der
  zentralen Erzeugungseinheit an. Die Standard-Erzeugung in IDA ICE geht da
 bei stark vereinfacht vor: Sie liefert stets die benötigte Leistung – ohne
  Begrenzung und mit konstantem oder pauschal lastabhängigem Wirkungsgrad.
 \nFür realistischere Analysen steht das sogenannte ESBO-Modell zur Verfügu
 ng. Dieses erlaubt die detaillierte Abbildung der zentralen Wärme- und Käl
 teerzeugung – inklusive Teillastverhalten\, Speichern und Pumpenregelung. 
 Sie lernen die wichtigsten ESBO-Komponenten kennen\, deren Eingabeparamete
 r sowie das Prinzip\, wie Erzeuger\, Speicher und Verteilung in einem real
 istischen Anlagenmodell verschaltet und geregelt werden.\nMit Hilfe dieses
  Modells lässt sich der zu erwartende Endenergiebedarf deutlich präziser b
 estimmen\, da nicht nur das Lastprofil (Leistung und Temperaturniveau)\, s
 ondern auch das Teillastverhalten und die Laufzeiten einzelner Komponenten
  berücksichtigt werden.\n\n\n&nbsp\;Thematisch verwandte Kurse:\n27.04.202
 6 - Wärmeabgabesysteme (Units)05.05.2026 bis 08.05.2026 - Anlagensimulatio
 n (Plant 1-4)11.05.2026 - Erdwärmepumpe (Boreh0)12.05.2026 - Erdsonden (Bo
 reh1)\n&nbsp\;\nZeit: 10:00-12:30 Uhr (inkl. 30 Minuten Pause)Ort: OnlineK
 urskosten: 195 EUR (normale Konditionen)&nbsp\; https://www.equa.se/de/ver
 anstaltungen/event/1453-einfuehrung-waerme-und-kaelteerzeugung-plant0-onli
 ne
DTSTART:20260504T100000Z
DTEND:20260504T123000Z
LOCATION:Online ()
SUMMARY:Einführung Wärme- und Kälteerzeugung (Plant0) - Online
URL:https://www.equa.se/de/veranstaltungen/event/1453-einfuehrung-waerme-un
 d-kaelteerzeugung-plant0-online
END:VEVENT
BEGIN:VEVENT
UID:20260423T201519CEST-9567XMzl1i@https://www.equa.se/
DTSTAMP:20260423T181519Z
DESCRIPTION:&nbsp\;\nOnline - Lektion Units\nVoraussetzungenVon den Kurstei
 lnehmern wird erwartet\, dass sie die im Basiskurs vermittelten Inhalte ke
 nnen und diese zur individuellen Vorbereitung auf den Kurs auffrischen.\n&
 nbsp\;\n\nLektion: Wärme- und Kälteabgabe (Units)\nFür den thermischen Kom
 fort ist nicht nur die Temperatur entscheidend\, sondern auch die Art und 
 Weise\, wie Wärme oder Kälte an den Raum abgegeben wird. In dieser Lektion
  lernen Sie die wichtigsten Heiz- und Kühlgeräte in IDA ICE kennen – von R
 adiatoren über Kühldecken bis hin zu Fußbodenheizungen – und erfahren\, wi
 e sich deren Eigenschaften auf das Raumklima und die Energieverteilung aus
 wirken.\nDie verwendete Art der Wärme- bzw. Kälteabgabe beeinflusst nicht 
 nur den Komfort\, sondern auch das Leistungsverhalten der Anlage: Die maxi
 mal mögliche Heiz- oder Kühlleistung hängt z. B. stark von der Vorlauftemp
 eratur oder der Raumlufttemperatur ab. Sie lernen\, wie Sie in IDA ICE unt
 erschiedliche Abgabesysteme realitätsnah modellieren\, deren Verhalten mit
  dem Zonenmodell koppeln und die Auswirkungen auf thermischen Komfort und 
 Energiebedarf analysieren können.\n\n\n&nbsp\;\nThematisch verwandte Kurse
 :04.05.2026 - Einführung: Wärme- und Kälteerzeugersysteme (Plant0)05.05.20
 26 bis 08.05.2026 - Anlagensimulation (Plant 1-4)11.05.2026 - Erdwärmepump
 e (Boreh0)12.05.2026 - Erdsonden (Boreh1)\n&nbsp\;\nZeit: 10:00-12:30 UhrO
 rt: OnlineKurskosten: 195 EUR (normale Konditionen)&nbsp\; https://www.equ
 a.se/de/veranstaltungen/event/1454-waerme-und-kaelteabgabe-units-online
DTSTART:20260427T100000Z
DTEND:20260427T123000Z
LOCATION:Online ()
SUMMARY:Wärme- und Kälteabgabe (Units) - Online
URL:https://www.equa.se/de/veranstaltungen/event/1454-waerme-und-kaelteabga
 be-units-online
END:VEVENT
BEGIN:VEVENT
UID:20260423T201519CEST-9569nZAVNi@https://www.equa.se/
DTSTAMP:20260423T181519Z
DESCRIPTION:IDA ICE Sprechstunde für Studierende\nWir freuen uns\, ein neue
 s Angebot für unsere Studierenden vorstellen zu können! Ab sofort bieten w
 ir zweimal im Monat eine öffentliche Sprechstunde an\, in der Sie Ihre Fra
 gen rund um IDA ICE live klären können.\nDiese Sprechstunde dauert eine St
 unde und bietet Ihnen die Möglichkeit\, direkt mit unseren Experten zu spr
 echen. Fragen\, die im Voraus per E-Mail (support@equa.ch)&nbsp\;eingereic
 ht werden\, werden bevorzugt behandelt.\nWir laden auch Betreuer herzlich 
 ein\, an diesen Sitzungen teilzunehmen\, um das Wissen nachhaltig weiterzu
 geben und den Austausch zu fördern.\nBitte finden Sie hier die Zugangslink
 s für die Veranstaltungen. Die Webinare werden&nbsp\;über Microsoft Teams 
 durchgeführt.\n10.04.2026 (Fr) - 12.30 bis 13.30 Uhr: Registrierung und Zu
 gang23.04.2026 (Do) - 15.30 bis 16.30 Uhr:&nbsp\;Registrierung und Zugang
 \n08.05.2026 (Fr) -&nbsp\;12.30 bis 13.30 Uhr: Registrierung und Zugang21.
 05.2026 (Do) - 15.30 bis 16.30 Uhr:&nbsp\;Registrierung und Zugang\n05.06.
 2026 (Fr) -&nbsp\;12.30 bis 13.30 Uhr: Registrierung und Zugang18.06.2026 
 (Do) - 15.30 bis 16.30 Uhr:Registrierung und Zugang\n&nbsp\;\n\nDauer: 60 
 MinutenPreis: KostenlosSprache: DeutschPräsentatoren: Team D-A-CH\n&nbsp\;
 \n&nbsp\;\n&nbsp\; https://www.equa.se/de/veranstaltungen/event/1468-ida-i
 ce-sprechstunde-fuer-studierende
DTSTART:20260423T153000Z
DTEND:20260423T163000Z
LOCATION:Webinar (DE) ()
SUMMARY:IDA ICE Sprechstunde für Studierende
URL:https://www.equa.se/de/veranstaltungen/event/1468-ida-ice-sprechstunde-
 fuer-studierende
END:VEVENT
END:VCALENDAR
