BEGIN:VCALENDAR
VERSION:2.0
PRODID:-//https://www.equa.se///NONSGML kigkonsult.se iCalcreator 2.10.15//
METHOD:PUBLISH
BEGIN:VEVENT
UID:20260423T185100CEST-6831vknEa8@https://www.equa.se/
DTSTAMP:20260423T165100Z
DESCRIPTION:&nbsp\;\nOnline - Lektion AirX\nVoraussetzungen Es wird erwarte
 t\, dass die Kursteilnehmer …\n\n… Erfahrungen in der Anwendung von IDA IC
 E zur Untersuchung des dynamischen Verhaltens von einzelnen Räumen an konk
 reten Bauvorhaben gesammelt haben und ...\n… das im Basiskurs vermittelte 
 Wissen kennen und zur individuellen Kursvorbereitung auffrischen.\n\n&nbsp
 \;\n\nLektion: Natürliche Lüftung (AirX)Die sinnvolle Modellierung einer n
 atürlichen Lüftung ist eine schwierige Aufgabe. Sie lernen die wichtigsten
  Möglichkeiten in IDA ICE sowie die verwendeten Modelle zur Berechnung des
  Luftaustauschs kennen.\n\n&nbsp\;\nZeit: 10:00-12:30 Uhr (inkl. 30 Minute
 n Pause)Ort: OnlineKurskosten: 165 EUR (normale Konditionen)&nbsp\; https:
 //www.equa.se/de/veranstaltungen/kommende-veranstaltungen/event/737-natuer
 liche-lueftung-airx-online
DTSTART:20221103T100000Z
DTEND:20221103T123000Z
LOCATION:Online ()
SUMMARY:Natürliche Lüftung (AirX) - Online
URL:https://www.equa.se/de/veranstaltungen/kommende-veranstaltungen/event/7
 37-natuerliche-lueftung-airx-online
END:VEVENT
END:VCALENDAR
